
BEGIN:VCALENDAR
VERSION:2.0
PRODID:-//Freiwillige Feuerwehr Pottendorf - ECPv6.15.20//NONSGML v1.0//EN
CALSCALE:GREGORIAN
METHOD:PUBLISH
X-WR-CALNAME:Freiwillige Feuerwehr Pottendorf
X-ORIGINAL-URL:https://ff-pottendorf.at
X-WR-CALDESC:Veranstaltungen für Freiwillige Feuerwehr Pottendorf
REFRESH-INTERVAL;VALUE=DURATION:PT1H
X-Robots-Tag:noindex
X-PUBLISHED-TTL:PT1H
BEGIN:VTIMEZONE
TZID:Europe/Vienna
BEGIN:DAYLIGHT
TZOFFSETFROM:+0100
TZOFFSETTO:+0200
TZNAME:CEST
DTSTART:20250330T010000
END:DAYLIGHT
BEGIN:STANDARD
TZOFFSETFROM:+0200
TZOFFSETTO:+0100
TZNAME:CET
DTSTART:20251026T010000
END:STANDARD
BEGIN:DAYLIGHT
TZOFFSETFROM:+0100
TZOFFSETTO:+0200
TZNAME:CEST
DTSTART:20260329T010000
END:DAYLIGHT
BEGIN:STANDARD
TZOFFSETFROM:+0200
TZOFFSETTO:+0100
TZNAME:CET
DTSTART:20261025T010000
END:STANDARD
BEGIN:DAYLIGHT
TZOFFSETFROM:+0100
TZOFFSETTO:+0200
TZNAME:CEST
DTSTART:20270328T010000
END:DAYLIGHT
BEGIN:STANDARD
TZOFFSETFROM:+0200
TZOFFSETTO:+0100
TZNAME:CET
DTSTART:20271031T010000
END:STANDARD
END:VTIMEZONE
BEGIN:VEVENT
DTSTART;TZID=Europe/Vienna:20260522T170000
DTEND;TZID=Europe/Vienna:20260524T150000
DTSTAMP:20260422T014802
CREATED:20260421T194133Z
LAST-MODIFIED:20260421T194932Z
UID:4594-1779469200-1779634800@ff-pottendorf.at
SUMMARY:Feuerwehrfest 2026 - 50 Jahre Feuerwehrjugend
DESCRIPTION:🔥 FEUERWEHRFEST – 50 Jahre Feuerwehrjugend🔥\n📅 22. Bis 24. Mai 2026\n \nWir feiern ein besonderes Jubiläum – kommt vorbei und feiert mit uns! 🚒🍻\n \nFreitag\nAb 17 Uhr: geht’s los mit unserem Fest 🍻\nAb 19 Uhr: Dämmerschoppen mit der Feuerwehrmusikkapelle REISENBERG und knusprigen Spanferkel 😋\nUm 20 Uhr: offizielle Eröffnung & Bieranstich mit Bgm. Ing. Thomas Sabbata-Valteiner\n \nSamstag\nAb 17 Uhr: geht’s weiter mit unserem Fest\nAb 20 Uhr: steigt die Party mit WOLKENLOS – Stimmung garantiert 🎉\n \nSonntag\nAb 10 Uhr: Feldmesse im Festzelt\nDanach gemütlicher Frühschoppen mit dem Musikverein Ebreichsdorf 🎶\n\nEinfach vorbeischauen und gute Laune mitbringen! 🚒🍻\n\n\nScreenshot
URL:https://ff-pottendorf.at/event/feuerwehrfest-2026-50-jahre-feuerwehrjugend/
LOCATION:Feuerwehrfest Pottendorf\, Marktplatz 9\, Pottendorf\, Niederösterreich\, 2486\, Austria
ATTACH;FMTTYPE=image/jpeg:https://ff-pottendorf.at/wp-content/uploads/2026/04/copy_D274A410-7DD2-4533-B8D6-33FF6F1AF035.jpeg
END:VEVENT
END:VCALENDAR